BEGIN:VCALENDAR
VERSION:2.0
PRODID:-//pretix//pretix.eu//
BEGIN:VEVENT
UID:pretix-weiselrichtig-vri-sep-zcse8-0@pretix.eu
DTSTART;VALUE=DATE:20210919
DTEND;VALUE=DATE:20210920
DESCRIPTION:Tickets: https://pretix.eu/weiselrichtig/vri-sep-zcse8/\nVerans
 talter: WEISELRICHTIG Imkerschule - Adelheid Maria Klein
DTSTAMP:20260419T135802Z
LOCATION:Pürgen
SUMMARY:VRI-Praxis - September im Bienenvolk - Varroareduziert Imkern - Pü
 rgen
END:VEVENT
END:VCALENDAR
