BEGIN:VCALENDAR
VERSION:2.0
PRODID:-//pretix//pretix.eu//
BEGIN:VTIMEZONE
TZID:Europe/Berlin
BEGIN:STANDARD
DTSTART:20001029T040000
RRULE:FREQ=YEARLY;BYDAY=-1SU;BYMONTH=10
TZNAME:CET
TZOFFSETFROM:+0200
TZOFFSETTO:+0100
END:STANDARD
BEGIN:DAYLIGHT
DTSTART:20000326T030000
RRULE:FREQ=YEARLY;BYDAY=-1SU;BYMONTH=3
TZNAME:CEST
TZOFFSETFROM:+0100
TZOFFSETTO:+0200
END:DAYLIGHT
END:VTIMEZONE
BEGIN:VEVENT
UID:pretix-wiener-gespraeche-25-0@pretix.eu
DTSTART;TZID=Europe/Berlin:20251024T090000
DTEND;TZID=Europe/Berlin:20251024T173000
DESCRIPTION:Tickets: https://pretix.eu/wiener-gespraeche/25/\nEinlass: 24.1
 0.2025 08:30\nVeranstalter: alite GmbH
DTSTAMP:20260421T151142Z
LOCATION:Hotel Andaz Vienna Am Belvedere\, Arsenalstrasse 10\, A -1100 Wien
 \, Österreich
SUMMARY:Wiener Gespräche 2025
END:VEVENT
END:VCALENDAR
