BEGIN:VCALENDAR
VERSION:2.0
PRODID:-//pretix//pretix.eu//
BEGIN:VTIMEZONE
TZID:Europe/Berlin
BEGIN:STANDARD
DTSTART:20001029T040000
RRULE:FREQ=YEARLY;BYDAY=-1SU;BYMONTH=10
TZNAME:CET
TZOFFSETFROM:+0200
TZOFFSETTO:+0100
END:STANDARD
BEGIN:DAYLIGHT
DTSTART:20000326T030000
RRULE:FREQ=YEARLY;BYDAY=-1SU;BYMONTH=3
TZNAME:CEST
TZOFFSETFROM:+0100
TZOFFSETTO:+0200
END:DAYLIGHT
END:VTIMEZONE
BEGIN:VEVENT
UID:pretix-wik-consult-industrie-4.0-0@pretix.eu
DTSTART;TZID=Europe/Berlin:20260601T150000
DTEND;TZID=Europe/Berlin:20260601T160000
DESCRIPTION:Tickets: https://pretix.eu/wik-consult/industrie-4.0/\nVeransta
 lter: WIK-Consult GmbH
DTSTAMP:20260422T015718Z
LOCATION:Online
SUMMARY:WIK-Webinar zu Industrie 4.0-Forschungsergebnissen
END:VEVENT
END:VCALENDAR
