BEGIN:VCALENDAR
VERSION:2.0
PRODID:-//pretix//pretix.eu//
BEGIN:VTIMEZONE
TZID:Europe/Berlin
BEGIN:STANDARD
DTSTART:20001029T040000
RRULE:FREQ=YEARLY;BYDAY=-1SU;BYMONTH=10
TZNAME:CET
TZOFFSETFROM:+0200
TZOFFSETTO:+0100
END:STANDARD
BEGIN:DAYLIGHT
DTSTART:20000326T030000
RRULE:FREQ=YEARLY;BYDAY=-1SU;BYMONTH=3
TZNAME:CEST
TZOFFSETFROM:+0100
TZOFFSETTO:+0200
END:DAYLIGHT
END:VTIMEZONE
BEGIN:VEVENT
UID:pretix-wik-consult-ws-nachhaltigkeit-0@pretix.eu
DTSTART;TZID=Europe/Berlin:20230905T130000
DTEND;TZID=Europe/Berlin:20230905T170000
DESCRIPTION:Tickets: https://pretix.eu/wik-consult/ws-nachhaltigkeit/\nEinl
 ass: 05.09.2023 12:30\nVeranstalter: WIK-Consult GmbH
DTSTAMP:20260424T085314Z
LOCATION:ASANTA\, Wilmersdorfer Str. 141\, 10585 Berlin
SUMMARY:Workshop zum BMDV-Projekt „Nachhaltiger Ausbau von Gigabitnetzen“
END:VEVENT
END:VCALENDAR
