BEGIN:VCALENDAR
VERSION:2.0
PRODID:-//pretix//pretix.eu//
BEGIN:VEVENT
UID:pretix-wikimedia-events-WikiConBrasil2025-0@pretix.eu
DTSTART;VALUE=DATE:20250719
DTEND;VALUE=DATE:20250721
DESCRIPTION:Bilhetes: https://pretix.eu/wikimedia-events/WikiConBrasil2025/
 \nOrganizador: Wikimedia Movement organizers
DTSTAMP:20260422T084015Z
LOCATION:Wish Hotel da Bahia\, Salvador\, Bahia
SUMMARY:WikiCon Brasil 2025
END:VEVENT
END:VCALENDAR
