BEGIN:VCALENDAR
VERSION:2.0
PRODID:-//pretix//pretix.eu//
BEGIN:VEVENT
UID:pretix-wikimedia-Hackathon-2026-0@pretix.eu
DTSTART;VALUE=DATE:20260501
DTEND;VALUE=DATE:20260504
DESCRIPTION:Tickets: https://pretix.eu/wikimedia/Hackathon-2026/\nOrganizer
 : Wikimedia Foundation
DTSTAMP:20260423T141058Z
SUMMARY:Wikimedia Hackathon 2026
END:VEVENT
END:VCALENDAR
