BEGIN:VCALENDAR
VERSION:2.0
PRODID:-//pretix//pretix.eu//
BEGIN:VTIMEZONE
TZID:Europe/Berlin
BEGIN:STANDARD
DTSTART:20001029T040000
RRULE:FREQ=YEARLY;BYDAY=-1SU;BYMONTH=10
TZNAME:CET
TZOFFSETFROM:+0200
TZOFFSETTO:+0100
END:STANDARD
BEGIN:DAYLIGHT
DTSTART:20000326T030000
RRULE:FREQ=YEARLY;BYDAY=-1SU;BYMONTH=3
TZNAME:CEST
TZOFFSETFROM:+0100
TZOFFSETTO:+0200
END:DAYLIGHT
END:VTIMEZONE
BEGIN:VEVENT
UID:pretix-wirkstatt-barocktag-0@pretix.eu
DTSTART;TZID=Europe/Berlin:20261003T130000
DTEND;TZID=Europe/Berlin:20261003T223000
DESCRIPTION:Tickets: https://pretix.eu/wirkstatt/barocktag/\nVeranstalter: 
 wirkstatt e.V.
DTSTAMP:20260421T171322Z
LOCATION:Karlsburg Durlach
SUMMARY:wirkstatt Barocktag 2026
END:VEVENT
END:VCALENDAR
