BEGIN:VCALENDAR
VERSION:2.0
PRODID:-//pretix//pretix.eu//
BEGIN:VTIMEZONE
TZID:Europe/Berlin
BEGIN:STANDARD
DTSTART:20001029T040000
RRULE:FREQ=YEARLY;BYDAY=-1SU;BYMONTH=10
TZNAME:CET
TZOFFSETFROM:+0200
TZOFFSETTO:+0100
END:STANDARD
BEGIN:DAYLIGHT
DTSTART:20000326T030000
RRULE:FREQ=YEARLY;BYDAY=-1SU;BYMONTH=3
TZNAME:CEST
TZOFFSETFROM:+0100
TZOFFSETTO:+0200
END:DAYLIGHT
END:VTIMEZONE
BEGIN:VEVENT
UID:pretix-wirkstatt-clowninuns-0@pretix.eu
DTSTART;TZID=Europe/Berlin:20260418T100000
DTEND;TZID=Europe/Berlin:20260419T170000
DESCRIPTION:Tickets: https://pretix.eu/wirkstatt/clowninuns/\nVeranstalter:
  wirkstatt e.V.
DTSTAMP:20260421T180001Z
LOCATION:wirkstatt FORUM\, Gewerbehof\, 1. OG\,\, Steinstraße 23\, 76133 K
 arlsruhe
SUMMARY:Der Clown in uns - Vom Lebenswitz zur Lebenslust
END:VEVENT
END:VCALENDAR
