BEGIN:VCALENDAR
VERSION:2.0
PRODID:-//pretix//pretix.eu//
BEGIN:VTIMEZONE
TZID:Europe/Berlin
BEGIN:STANDARD
DTSTART:20001029T040000
RRULE:FREQ=YEARLY;BYDAY=-1SU;BYMONTH=10
TZNAME:CET
TZOFFSETFROM:+0200
TZOFFSETTO:+0100
END:STANDARD
BEGIN:DAYLIGHT
DTSTART:20000326T030000
RRULE:FREQ=YEARLY;BYDAY=-1SU;BYMONTH=3
TZNAME:CEST
TZOFFSETFROM:+0100
TZOFFSETTO:+0200
END:DAYLIGHT
END:VTIMEZONE
BEGIN:VEVENT
UID:pretix-wirkstatt-zaubernkoennen-0@pretix.eu
DTSTART;TZID=Europe/Berlin:20260425T100000
DTEND;TZID=Europe/Berlin:20260426T140000
DESCRIPTION:Tickets: https://pretix.eu/wirkstatt/zaubernkoennen/\nVeranstal
 ter: wirkstatt e.V.
DTSTAMP:20260422T005227Z
LOCATION:wirkstatt FORUM\,\, Gewerbehof\, 1. OG\,\, Steinstraße 23\,\, 761
 33 Karlsruhe
SUMMARY:Zaubern müsste man können
END:VEVENT
END:VCALENDAR
