BEGIN:VCALENDAR
VERSION:2.0
PRODID:-//pretix//pretix.eu//
BEGIN:VTIMEZONE
TZID:Europe/Vienna
BEGIN:STANDARD
DTSTART:20001029T040000
RRULE:FREQ=YEARLY;BYDAY=-1SU;BYMONTH=10
TZNAME:CET
TZOFFSETFROM:+0200
TZOFFSETTO:+0100
END:STANDARD
BEGIN:DAYLIGHT
DTSTART:20000326T030000
RRULE:FREQ=YEARLY;BYDAY=-1SU;BYMONTH=3
TZNAME:CEST
TZOFFSETFROM:+0100
TZOFFSETTO:+0200
END:DAYLIGHT
END:VTIMEZONE
BEGIN:VEVENT
UID:pretix-wissenswerkstadt-324-0@pretix.eu
DTSTART;TZID=Europe/Vienna:20250130T200000
DTEND;TZID=Europe/Vienna:20250130T210000
DESCRIPTION:Tickets: https://pretix.eu/wissenswerkstadt/324/\nEinlass: 30.0
 1.2025 19:30\nVeranstalter: Wissenswerkstadt
DTSTAMP:20260420T061314Z
LOCATION:Wissenswerkstadt Bielefeld: Oval
SUMMARY:Comedy - Ill-young Kim: Kim kommt!
END:VEVENT
END:VCALENDAR
