BEGIN:VCALENDAR
VERSION:2.0
PRODID:-//pretix//pretix.eu//
BEGIN:VEVENT
UID:pretix-wmseminare-fpt2021-0@pretix.eu
DTSTART;VALUE=DATE:20210622
DTEND;VALUE=DATE:20210624
DESCRIPTION:Tickets: https://pretix.eu/wmseminare/fpt2021/\nEinlass: 22.06.
 2021 00:00\nVeranstalter: BZ live
DTSTAMP:20260425T003247Z
SUMMARY:Digitale Konferenz: 14. Finanzplatztag der WM Gruppe
END:VEVENT
END:VCALENDAR
