BEGIN:VCALENDAR
VERSION:2.0
PRODID:-//pretix//pretix.eu//
BEGIN:VTIMEZONE
TZID:Europe/Berlin
BEGIN:STANDARD
DTSTART:20001029T040000
RRULE:FREQ=YEARLY;BYDAY=-1SU;BYMONTH=10
TZNAME:CET
TZOFFSETFROM:+0200
TZOFFSETTO:+0100
END:STANDARD
BEGIN:DAYLIGHT
DTSTART:20000326T030000
RRULE:FREQ=YEARLY;BYDAY=-1SU;BYMONTH=3
TZNAME:CEST
TZOFFSETFROM:+0100
TZOFFSETTO:+0200
END:DAYLIGHT
END:VTIMEZONE
BEGIN:VEVENT
UID:pretix-wmseminare-fpt25-2-0@pretix.eu
DTSTART;TZID=Europe/Berlin:20250303T090000
DTEND;TZID=Europe/Berlin:20250304T170000
DESCRIPTION:Tickets: https://pretix.eu/wmseminare/fpt25-2/\nEinlass: 03.03.
 2025 08:30\nVeranstalter: BZ live
DTSTAMP:20260424T183840Z
LOCATION:IHK Frankfurt am Main\, Börsenplatz 4\, 60313 Frankfurt am Main
SUMMARY:18. Finanzplatztag der Börsen-Zeitung
END:VEVENT
END:VCALENDAR
