BEGIN:VCALENDAR
VERSION:2.0
PRODID:-//pretix//pretix.eu//
BEGIN:VTIMEZONE
TZID:Europe/Berlin
BEGIN:STANDARD
DTSTART:20001029T040000
RRULE:FREQ=YEARLY;BYDAY=-1SU;BYMONTH=10
TZNAME:CET
TZOFFSETFROM:+0200
TZOFFSETTO:+0100
END:STANDARD
BEGIN:DAYLIGHT
DTSTART:20000326T030000
RRULE:FREQ=YEARLY;BYDAY=-1SU;BYMONTH=3
TZNAME:CEST
TZOFFSETFROM:+0100
TZOFFSETTO:+0200
END:DAYLIGHT
END:VTIMEZONE
BEGIN:VEVENT
UID:pretix-wohnsinn-festival-0@pretix.eu
DTSTART;TZID=Europe/Berlin:20260619T090000
DTEND;TZID=Europe/Berlin:20260620T163000
DESCRIPTION:Tickets: https://pretix.eu/wohnsinn/festival/\nVeranstalter: WO
 HN:SINN - Bündnis für inklusives Wohnen e.V.
DTSTAMP:20260424T120826Z
LOCATION:Kunstverein Wagenhalle e.V.\, Innerer Nordbahnhof 1\, 70191 Stuttg
 art
SUMMARY:ZusammenLeben Festival 2026
END:VEVENT
END:VCALENDAR
