BEGIN:VCALENDAR
VERSION:2.0
PRODID:-//pretix//pretix.eu//
BEGIN:VTIMEZONE
TZID:Europe/Berlin
BEGIN:STANDARD
DTSTART:20001029T040000
RRULE:FREQ=YEARLY;BYDAY=-1SU;BYMONTH=10
TZNAME:CET
TZOFFSETFROM:+0200
TZOFFSETTO:+0100
END:STANDARD
BEGIN:DAYLIGHT
DTSTART:20000326T030000
RRULE:FREQ=YEARLY;BYDAY=-1SU;BYMONTH=3
TZNAME:CEST
TZOFFSETFROM:+0100
TZOFFSETTO:+0200
END:DAYLIGHT
END:VTIMEZONE
BEGIN:VEVENT
UID:pretix-wohnsinn-zaertliche-revolution-0@pretix.eu
DTSTART;TZID=Europe/Berlin:20260303T173000
DTEND;TZID=Europe/Berlin:20260303T220000
DESCRIPTION:Tickets: https://pretix.eu/wohnsinn/zaertliche-revolution/\nVer
 anstalter: WOHN:SINN - Bündnis für inklusives Wohnen e.V.
DTSTAMP:20260419T162324Z
LOCATION:Kulturzentrum LUISE\, Ruppertstraße 5\, 80337 München
SUMMARY:Filmvorführung und Gespräch "Die zärtliche Revolution"
END:VEVENT
END:VCALENDAR
