BEGIN:VCALENDAR
VERSION:2.0
PRODID:-//pretix//pretix.eu//
BEGIN:VTIMEZONE
TZID:Europe/Berlin
BEGIN:STANDARD
DTSTART:20001029T040000
RRULE:FREQ=YEARLY;BYDAY=-1SU;BYMONTH=10
TZNAME:CET
TZOFFSETFROM:+0200
TZOFFSETTO:+0100
END:STANDARD
BEGIN:DAYLIGHT
DTSTART:20000326T030000
RRULE:FREQ=YEARLY;BYDAY=-1SU;BYMONTH=3
TZNAME:CEST
TZOFFSETFROM:+0100
TZOFFSETTO:+0200
END:DAYLIGHT
END:VTIMEZONE
BEGIN:VEVENT
UID:pretix-wolfgangwagner-t3brt-april-2026-0@pretix.eu
DTSTART;TZID=Europe/Berlin:20250425T160000
DTEND;TZID=Europe/Berlin:20250425T180000
DESCRIPTION:Tickets: https://pretix.eu/wolfgangwagner/t3brt-april-2026/\nVe
 ranstalter: Wolfgang Wagner
DTSTAMP:20260420T160029Z
LOCATION:Online per Zoom
SUMMARY:Business Roundtable: Digital mit TYPO3 am 25.04.2025
END:VEVENT
END:VCALENDAR
