BEGIN:VCALENDAR
VERSION:2.0
PRODID:-//pretix//pretix.eu//
BEGIN:VTIMEZONE
TZID:Europe/Berlin
BEGIN:STANDARD
DTSTART:20001029T040000
RRULE:FREQ=YEARLY;BYDAY=-1SU;BYMONTH=10
TZNAME:CET
TZOFFSETFROM:+0200
TZOFFSETTO:+0100
END:STANDARD
BEGIN:DAYLIGHT
DTSTART:20000326T030000
RRULE:FREQ=YEARLY;BYDAY=-1SU;BYMONTH=3
TZNAME:CEST
TZOFFSETFROM:+0100
TZOFFSETTO:+0200
END:DAYLIGHT
END:VTIMEZONE
BEGIN:VEVENT
UID:pretix-wrs-26RD-0@pretix.eu
DTSTART;TZID=Europe/Berlin:20230707T083000
DTEND;TZID=Europe/Berlin:20230707T120000
DESCRIPTION:Tickets: https://pretix.eu/wrs/26RD/\nVeranstalter: Wirtschafts
 förderung Region Stuttgart GmbH
DTSTAMP:20260421T141136Z
LOCATION:Das Gutbrod\, Friedrichstraße 10\, 70174 Stuttgart
SUMMARY:26. Regionaler Dialog: „Digitale Geschäftsmodelle im Spannungsfe
 ld zwischen Gesetz und Technologie"
END:VEVENT
END:VCALENDAR
