BEGIN:VCALENDAR
VERSION:2.0
PRODID:-//pretix//pretix.eu//
BEGIN:VTIMEZONE
TZID:Europe/Berlin
BEGIN:STANDARD
DTSTART:20001029T040000
RRULE:FREQ=YEARLY;BYDAY=-1SU;BYMONTH=10
TZNAME:CET
TZOFFSETFROM:+0200
TZOFFSETTO:+0100
END:STANDARD
BEGIN:DAYLIGHT
DTSTART:20000326T030000
RRULE:FREQ=YEARLY;BYDAY=-1SU;BYMONTH=3
TZNAME:CEST
TZOFFSETFROM:+0100
TZOFFSETTO:+0200
END:DAYLIGHT
END:VTIMEZONE
BEGIN:VEVENT
UID:pretix-wrs-Green-Tech-WS1-4-0@pretix.eu
DTSTART;TZID=Europe/Berlin:20261124T090000
DTEND;TZID=Europe/Berlin:20261124T110000
DESCRIPTION:Tickets: https://pretix.eu/wrs/Green-Tech-WS1-4/\nVeranstalter:
  Wirtschaftsförderung Region Stuttgart GmbH
DTSTAMP:20260419T143445Z
LOCATION:Das Gutbrod - Friedrichstraße 10\, 70174 Stuttgart
SUMMARY:Green-Tech-Clusterworkshop Series “Biointelligence Innovators” 
 in Kooperation mit S-TEC
END:VEVENT
END:VCALENDAR
