BEGIN:VCALENDAR
VERSION:2.0
PRODID:-//pretix//pretix.eu//
BEGIN:VTIMEZONE
TZID:Europe/Berlin
BEGIN:STANDARD
DTSTART:20001029T040000
RRULE:FREQ=YEARLY;BYDAY=-1SU;BYMONTH=10
TZNAME:CET
TZOFFSETFROM:+0200
TZOFFSETTO:+0100
END:STANDARD
BEGIN:DAYLIGHT
DTSTART:20000326T030000
RRULE:FREQ=YEARLY;BYDAY=-1SU;BYMONTH=3
TZNAME:CEST
TZOFFSETFROM:+0100
TZOFFSETTO:+0200
END:DAYLIGHT
END:VTIMEZONE
BEGIN:VEVENT
UID:pretix-wrs-anerkennung25-0@pretix.eu
DTSTART;TZID=Europe/Berlin:20251014T100000
DTEND;TZID=Europe/Berlin:20251014T120000
DESCRIPTION:Tickets: https://pretix.eu/wrs/anerkennung25/\nVeranstalter: Wi
 rtschaftsförderung Region Stuttgart GmbH
DTSTAMP:20260422T043037Z
LOCATION:online
SUMMARY:Web-Seminar: Anerkennung ausländischer Abschlüsse und Zeugnisse
END:VEVENT
END:VCALENDAR
