BEGIN:VCALENDAR
VERSION:2.0
PRODID:-//pretix//pretix.eu//
BEGIN:VTIMEZONE
TZID:Europe/Berlin
BEGIN:STANDARD
DTSTART:20001029T040000
RRULE:FREQ=YEARLY;BYDAY=-1SU;BYMONTH=10
TZNAME:CET
TZOFFSETFROM:+0200
TZOFFSETTO:+0100
END:STANDARD
BEGIN:DAYLIGHT
DTSTART:20000326T030000
RRULE:FREQ=YEARLY;BYDAY=-1SU;BYMONTH=3
TZNAME:CEST
TZOFFSETFROM:+0100
TZOFFSETTO:+0200
END:DAYLIGHT
END:VTIMEZONE
BEGIN:VEVENT
UID:pretix-wrs-sxswreport-0@pretix.eu
DTSTART;TZID=Europe/Berlin:20240411T170000
DTEND;TZID=Europe/Berlin:20240411T203000
DESCRIPTION:Tickets: https://pretix.eu/wrs/sxswreport/\nEinlass: 11.04.2024
  17:00\nVeranstalter: Wirtschaftsförderung Region Stuttgart GmbH
DTSTAMP:20260420T094117Z
LOCATION:Studio Amore\, Schillerstraße 23\, 70173 Stuttgart
SUMMARY:SXSW 2024 Report
END:VEVENT
END:VCALENDAR
