BEGIN:VCALENDAR
VERSION:2.0
PRODID:-//pretix//pretix.eu//
BEGIN:VTIMEZONE
TZID:Europe/Vienna
BEGIN:STANDARD
DTSTART:20001029T040000
RRULE:FREQ=YEARLY;BYDAY=-1SU;BYMONTH=10
TZNAME:CET
TZOFFSETFROM:+0200
TZOFFSETTO:+0100
END:STANDARD
BEGIN:DAYLIGHT
DTSTART:20000326T030000
RRULE:FREQ=YEARLY;BYDAY=-1SU;BYMONTH=3
TZNAME:CEST
TZOFFSETFROM:+0100
TZOFFSETTO:+0200
END:DAYLIGHT
END:VTIMEZONE
BEGIN:VEVENT
UID:pretix-wuv-wuv40-0@pretix.eu
DTSTART;TZID=Europe/Vienna:20251119T180000
DTEND;TZID=Europe/Vienna:20251119T190000
DESCRIPTION:Tickets: https://pretix.eu/wuv/wuv40/\nVeranstalter: 40 Jahre W
 uV
DTSTAMP:20260423T025802Z
LOCATION:Aula\, Universität Innsbruck
SUMMARY:40 Jahre WuV
END:VEVENT
END:VCALENDAR
