BEGIN:VCALENDAR
VERSION:2.0
PRODID:-//pretix//pretix.eu//
BEGIN:VTIMEZONE
TZID:Europe/Berlin
BEGIN:STANDARD
DTSTART:20001029T040000
RRULE:FREQ=YEARLY;BYDAY=-1SU;BYMONTH=10
TZNAME:CET
TZOFFSETFROM:+0200
TZOFFSETTO:+0100
END:STANDARD
BEGIN:DAYLIGHT
DTSTART:20000326T030000
RRULE:FREQ=YEARLY;BYDAY=-1SU;BYMONTH=3
TZNAME:CEST
TZOFFSETFROM:+0100
TZOFFSETTO:+0200
END:DAYLIGHT
END:VTIMEZONE
BEGIN:VEVENT
UID:pretix-xopcon-tickets-0@pretix.eu
DTSTART;TZID=Europe/Berlin:20241122T090000
DTEND;TZID=Europe/Berlin:20241123T210000
DESCRIPTION:Entradas: https://pretix.eu/xopcon/tickets/\nOrganizador: XOps 
 Conference
DTSTAMP:20260424T014032Z
LOCATION:Auditorio del ETSISI en el Campus Sur de la UPM en Vallecas
SUMMARY:XOps Conference
END:VEVENT
END:VCALENDAR
