BEGIN:VCALENDAR
VERSION:2.0
PRODID:-//pretix//pretix.eu//
BEGIN:VTIMEZONE
TZID:Europe/Berlin
BEGIN:STANDARD
DTSTART:20001029T040000
RRULE:FREQ=YEARLY;BYDAY=-1SU;BYMONTH=10
TZNAME:CET
TZOFFSETFROM:+0200
TZOFFSETTO:+0100
END:STANDARD
BEGIN:DAYLIGHT
DTSTART:20000326T030000
RRULE:FREQ=YEARLY;BYDAY=-1SU;BYMONTH=3
TZNAME:CEST
TZOFFSETFROM:+0100
TZOFFSETTO:+0200
END:DAYLIGHT
END:VTIMEZONE
BEGIN:VEVENT
UID:pretix-young-stage-Footloose-4911398@pretix.eu
DTSTART;TZID=Europe/Berlin:20260530T180000
DTEND;TZID=Europe/Berlin:20260530T204500
DESCRIPTION:Tickets: https://pretix.eu/young-stage/Footloose/4911398/\nEinl
 ass: 30.05.2026 17:00\nVeranstalter: Young Stage / Ute Martin
DTSTAMP:20260425T150751Z
LOCATION:Stadtteilschule Walddörfer\, Ahrensburger Weg 30
SUMMARY:Footloose
END:VEVENT
END:VCALENDAR
