BEGIN:VCALENDAR
VERSION:2.0
PRODID:-//pretix//pretix.eu//
BEGIN:VTIMEZONE
TZID:Europe/Berlin
BEGIN:STANDARD
DTSTART:20001029T040000
RRULE:FREQ=YEARLY;BYDAY=-1SU;BYMONTH=10
TZNAME:CET
TZOFFSETFROM:+0200
TZOFFSETTO:+0100
END:STANDARD
BEGIN:DAYLIGHT
DTSTART:20000326T030000
RRULE:FREQ=YEARLY;BYDAY=-1SU;BYMONTH=3
TZNAME:CEST
TZOFFSETFROM:+0100
TZOFFSETTO:+0200
END:DAYLIGHT
END:VTIMEZONE
BEGIN:VEVENT
UID:pretix-young-stage-Weihnachtsgala25-0@pretix.eu
DTSTART;TZID=Europe/Berlin:20251214T170000
DTEND;TZID=Europe/Berlin:20251214T193000
DESCRIPTION:Tickets: https://pretix.eu/young-stage/Weihnachtsgala25/\nVeran
 stalter: Young Stage / Ute Martin
DTSTAMP:20260425T015530Z
LOCATION:Stadtteilschule Walddörfer\, Ahrensburger Weg 30
SUMMARY:YOU! Weihnachtsgala 2025
END:VEVENT
END:VCALENDAR
