BEGIN:VCALENDAR
VERSION:2.0
PRODID:-//pretix//pretix.eu//
BEGIN:VTIMEZONE
TZID:Europe/Berlin
BEGIN:STANDARD
DTSTART:20001029T040000
RRULE:FREQ=YEARLY;BYDAY=-1SU;BYMONTH=10
TZNAME:CET
TZOFFSETFROM:+0200
TZOFFSETTO:+0100
END:STANDARD
BEGIN:DAYLIGHT
DTSTART:20000326T030000
RRULE:FREQ=YEARLY;BYDAY=-1SU;BYMONTH=3
TZNAME:CEST
TZOFFSETFROM:+0100
TZOFFSETTO:+0200
END:DAYLIGHT
END:VTIMEZONE
BEGIN:VEVENT
UID:pretix-zil-dauer-743673@pretix.eu
DTSTART;TZID=Europe/Berlin:20210320T160000
DTEND;TZID=Europe/Berlin:20210320T170000
DESCRIPTION:Tickets: https://pretix.eu/zil/dauer/743673/\nOrganizer: Zentru
 m für Internationale Lichtkunst
DTSTAMP:20260423T014015Z
SUMMARY:Permanent Collection
END:VEVENT
END:VCALENDAR
