BEGIN:VCALENDAR
VERSION:2.0
PRODID:-//pretix//pretix.eu//
BEGIN:VTIMEZONE
TZID:Europe/Berlin
BEGIN:STANDARD
DTSTART:20001029T040000
RRULE:FREQ=YEARLY;BYDAY=-1SU;BYMONTH=10
TZNAME:CET
TZOFFSETFROM:+0200
TZOFFSETTO:+0100
END:STANDARD
BEGIN:DAYLIGHT
DTSTART:20000326T030000
RRULE:FREQ=YEARLY;BYDAY=-1SU;BYMONTH=3
TZNAME:CEST
TZOFFSETFROM:+0100
TZOFFSETTO:+0200
END:DAYLIGHT
END:VTIMEZONE
BEGIN:VEVENT
UID:pretix-zm-bockhorst030427-0@pretix.eu
DTSTART;TZID=Europe/Berlin:20270403T200000
DTEND;TZID=Europe/Berlin:20270403T210000
DESCRIPTION:Tickets: https://pretix.eu/zm/bockhorst030427/\nEinlass: 03.04.
 2027 19:00\nVeranstalter: zukunftsmusik
DTSTAMP:20260419T135813Z
LOCATION:Theaterlabor im Tor6 Theaterhaus\, Hermann-Kleinewächter-Straße 
 4\, 33602 Bielefeld\, Sitzplatz - Freie Platzwahl
SUMMARY:HELENE BOCKHORST - "Lebefrau"
END:VEVENT
END:VCALENDAR
