BEGIN:VCALENDAR
VERSION:2.0
PRODID:-//pretix//pretix.eu//
BEGIN:VTIMEZONE
TZID:Europe/Berlin
BEGIN:STANDARD
DTSTART:20001029T040000
RRULE:FREQ=YEARLY;BYDAY=-1SU;BYMONTH=10
TZNAME:CET
TZOFFSETFROM:+0200
TZOFFSETTO:+0100
END:STANDARD
BEGIN:DAYLIGHT
DTSTART:20000326T030000
RRULE:FREQ=YEARLY;BYDAY=-1SU;BYMONTH=3
TZNAME:CEST
TZOFFSETFROM:+0100
TZOFFSETTO:+0200
END:DAYLIGHT
END:VTIMEZONE
BEGIN:VEVENT
UID:pretix-zm-colourhaze121126-0@pretix.eu
DTSTART;TZID=Europe/Berlin:20261112T200000
DTEND;TZID=Europe/Berlin:20261112T210000
DESCRIPTION:Tickets: https://pretix.eu/zm/colourhaze121126/\nEinlass: 12.11
 .2026 19:00\nVeranstalter: zukunftsmusik
DTSTAMP:20260419T135815Z
LOCATION:Botschaft\, Frankenstraße 21\, 49082 Osnabrück
SUMMARY:COLOUR HAZE - Tour 2026
END:VEVENT
END:VCALENDAR
