BEGIN:VCALENDAR
VERSION:2.0
PRODID:-//pretix//pretix.eu//
BEGIN:VTIMEZONE
TZID:Europe/Berlin
BEGIN:STANDARD
DTSTART:20001029T040000
RRULE:FREQ=YEARLY;BYDAY=-1SU;BYMONTH=10
TZNAME:CET
TZOFFSETFROM:+0200
TZOFFSETTO:+0100
END:STANDARD
BEGIN:DAYLIGHT
DTSTART:20000326T030000
RRULE:FREQ=YEARLY;BYDAY=-1SU;BYMONTH=3
TZNAME:CEST
TZOFFSETFROM:+0100
TZOFFSETTO:+0200
END:DAYLIGHT
END:VTIMEZONE
BEGIN:VEVENT
UID:pretix-zm-livelines121226-0@pretix.eu
DTSTART;TZID=Europe/Berlin:20261212T200000
DTEND;TZID=Europe/Berlin:20261212T210000
DESCRIPTION:Tickets: https://pretix.eu/zm/livelines121226/\nEinlass: 12.12.
 2026 18:30\nVeranstalter: zukunftsmusik
DTSTAMP:20260419T153053Z
LOCATION:Botschaft\, Frankenstraße 21\, 49082 Osnabrück
SUMMARY:The Livelines - Jahresabschlusskonzert 2026
END:VEVENT
END:VCALENDAR
