BEGIN:VCALENDAR
VERSION:2.0
PRODID:-//pretix//pretix.eu//
BEGIN:VTIMEZONE
TZID:Europe/Berlin
BEGIN:STANDARD
DTSTART:20001029T040000
RRULE:FREQ=YEARLY;BYDAY=-1SU;BYMONTH=10
TZNAME:CET
TZOFFSETFROM:+0200
TZOFFSETTO:+0100
END:STANDARD
BEGIN:DAYLIGHT
DTSTART:20000326T030000
RRULE:FREQ=YEARLY;BYDAY=-1SU;BYMONTH=3
TZNAME:CEST
TZOFFSETFROM:+0100
TZOFFSETTO:+0200
END:DAYLIGHT
END:VTIMEZONE
BEGIN:VEVENT
UID:pretix-zm-maxigstettenbauer120426-0@pretix.eu
DTSTART;TZID=Europe/Berlin:20260412T190000
DTEND;TZID=Europe/Berlin:20260412T200000
DESCRIPTION:Tickets: https://pretix.eu/zm/maxigstettenbauer120426/\nEinlass
 : 12.04.2026 18:00\nVeranstalter: zukunftsmusik
DTSTAMP:20260419T214953Z
LOCATION:TOR 6 Theaterhaus\, Hermann-Kleinewächter Str 4\, 33602 Bielefeld
SUMMARY:MAXI GSTETTENBAUER- "Stabil"
END:VEVENT
END:VCALENDAR
