BEGIN:VCALENDAR
VERSION:2.0
PRODID:-//pretix//pretix.eu//
BEGIN:VTIMEZONE
TZID:Europe/Berlin
BEGIN:STANDARD
DTSTART:20001029T040000
RRULE:FREQ=YEARLY;BYDAY=-1SU;BYMONTH=10
TZNAME:CET
TZOFFSETFROM:+0200
TZOFFSETTO:+0100
END:STANDARD
BEGIN:DAYLIGHT
DTSTART:20000326T030000
RRULE:FREQ=YEARLY;BYDAY=-1SU;BYMONTH=3
TZNAME:CEST
TZOFFSETFROM:+0100
TZOFFSETTO:+0200
END:DAYLIGHT
END:VTIMEZONE
BEGIN:VEVENT
UID:pretix-zm-mellow240427-0@pretix.eu
DTSTART;TZID=Europe/Berlin:20270424T180000
DTEND;TZID=Europe/Berlin:20270424T190000
DESCRIPTION:Tickets: https://pretix.eu/zm/mellow240427/\nEinlass: 24.04.202
 7 17:00\nVeranstalter: zukunftsmusik
DTSTAMP:20260419T153056Z
LOCATION:Botschaft\, Frankenstraße 21\, 49082 Osnabrück\, Sitzplatz - Fre
 ie Platzwahl
SUMMARY:Mellow - Feel the Magic!
END:VEVENT
END:VCALENDAR
