BEGIN:VCALENDAR
VERSION:2.0
PRODID:-//pretix//pretix.eu//
BEGIN:VTIMEZONE
TZID:Europe/Berlin
BEGIN:STANDARD
DTSTART:20001029T040000
RRULE:FREQ=YEARLY;BYDAY=-1SU;BYMONTH=10
TZNAME:CET
TZOFFSETFROM:+0200
TZOFFSETTO:+0100
END:STANDARD
BEGIN:DAYLIGHT
DTSTART:20000326T030000
RRULE:FREQ=YEARLY;BYDAY=-1SU;BYMONTH=3
TZNAME:CEST
TZOFFSETFROM:+0100
TZOFFSETTO:+0200
END:DAYLIGHT
END:VTIMEZONE
BEGIN:VEVENT
UID:pretix-zm-mellow280226-0@pretix.eu
DTSTART;TZID=Europe/Berlin:20260228T180000
DTEND;TZID=Europe/Berlin:20260228T190000
DESCRIPTION:Tickets: https://pretix.eu/zm/mellow280226/\nEinlass: 28.02.202
 6 17:30\nVeranstalter: zukunftsmusik
DTSTAMP:20260420T052222Z
LOCATION:Botschaft\, Frankenstraße 21\, 49082 Osnabrück\, Sitzplatz - Fre
 ie Platzwahl
SUMMARY:MELLOW - "Blow your Mind!"
END:VEVENT
END:VCALENDAR
