BEGIN:VCALENDAR
VERSION:2.0
PRODID:-//pretix//pretix.eu//
BEGIN:VTIMEZONE
TZID:Europe/Berlin
BEGIN:STANDARD
DTSTART:20001029T040000
RRULE:FREQ=YEARLY;BYDAY=-1SU;BYMONTH=10
TZNAME:CET
TZOFFSETFROM:+0200
TZOFFSETTO:+0100
END:STANDARD
BEGIN:DAYLIGHT
DTSTART:20000326T030000
RRULE:FREQ=YEARLY;BYDAY=-1SU;BYMONTH=3
TZNAME:CEST
TZOFFSETFROM:+0100
TZOFFSETTO:+0200
END:DAYLIGHT
END:VTIMEZONE
BEGIN:VEVENT
UID:pretix-zm-mfgmia250726-0@pretix.eu
DTSTART;TZID=Europe/Berlin:20260725T180000
DTEND;TZID=Europe/Berlin:20260725T190000
DESCRIPTION:Tickets: https://pretix.eu/zm/mfgmia250726/\nEinlass: 25.07.202
 6 17:00\nVeranstalter: zukunftsmusik
DTSTAMP:20260419T123414Z
LOCATION:Botschaft\, Frankenstraße 21\, 49082 Osnabrück
SUMMARY:Mit freundlichen Grüßen Open Air präsentiert: MIA - plus Supports
END:VEVENT
END:VCALENDAR
