BEGIN:VCALENDAR
VERSION:2.0
PRODID:-//pretix//pretix.eu//
BEGIN:VEVENT
UID:pretix-zm-popsalon14-4-0@pretix.eu
DTSTART;VALUE=DATE:20260415
DTEND;VALUE=DATE:20260419
DESCRIPTION:Tickets: https://pretix.eu/zm/popsalon14-4/\nVeranstalter: zuku
 nftsmusik
DTSTAMP:20260420T060509Z
LOCATION:Osnabrück\, diverse Spielorte
SUMMARY:popsalon14 | das clubfestival in osnabrück
END:VEVENT
END:VCALENDAR
