BEGIN:VCALENDAR
VERSION:2.0
PRODID:-//pretix//pretix.eu//
BEGIN:VTIMEZONE
TZID:Europe/Berlin
BEGIN:STANDARD
DTSTART:20001029T040000
RRULE:FREQ=YEARLY;BYDAY=-1SU;BYMONTH=10
TZNAME:CET
TZOFFSETFROM:+0200
TZOFFSETTO:+0100
END:STANDARD
BEGIN:DAYLIGHT
DTSTART:20000326T030000
RRULE:FREQ=YEARLY;BYDAY=-1SU;BYMONTH=3
TZNAME:CEST
TZOFFSETFROM:+0100
TZOFFSETTO:+0200
END:DAYLIGHT
END:VTIMEZONE
BEGIN:VEVENT
UID:pretix-zm-prosa081126-0@pretix.eu
DTSTART;TZID=Europe/Berlin:20261108T190000
DTEND;TZID=Europe/Berlin:20261108T200000
DESCRIPTION:Tickets: https://pretix.eu/zm/prosa081126/\nEinlass: 09.10.2025
  18:00\nVeranstalter: zukunftsmusik
DTSTAMP:20260423T052248Z
LOCATION:Kleine Freiheit\, Dammstraße 2\, 49084 Osnabrück
SUMMARY:Max Prosa - Der Garten Tour 2026
END:VEVENT
END:VCALENDAR
