BEGIN:VCALENDAR
VERSION:2.0
PRODID:-//pretix//pretix.eu//
BEGIN:VTIMEZONE
TZID:Europe/Berlin
BEGIN:STANDARD
DTSTART:20001029T040000
RRULE:FREQ=YEARLY;BYDAY=-1SU;BYMONTH=10
TZNAME:CET
TZOFFSETFROM:+0200
TZOFFSETTO:+0100
END:STANDARD
BEGIN:DAYLIGHT
DTSTART:20000326T030000
RRULE:FREQ=YEARLY;BYDAY=-1SU;BYMONTH=3
TZNAME:CEST
TZOFFSETFROM:+0100
TZOFFSETTO:+0200
END:DAYLIGHT
END:VTIMEZONE
BEGIN:VEVENT
UID:pretix-zm-rosecity060525-0@pretix.eu
DTSTART;TZID=Europe/Berlin:20250506T200000
DTEND;TZID=Europe/Berlin:20250506T210000
DESCRIPTION:Tickets: https://pretix.eu/zm/rosecity060525/\nEinlass: 27.11.2
 024 20:00\nVeranstalter: zukunftsmusik
DTSTAMP:20260423T000759Z
LOCATION:Kleine Freiheit\, Dammstraße 2\, 49084 Osnabrück
SUMMARY:ROSE CITY BAND
END:VEVENT
END:VCALENDAR
