BEGIN:VCALENDAR
VERSION:2.0
PRODID:-//pretix//pretix.eu//
BEGIN:VTIMEZONE
TZID:Europe/Berlin
BEGIN:STANDARD
DTSTART:20001029T040000
RRULE:FREQ=YEARLY;BYDAY=-1SU;BYMONTH=10
TZNAME:CET
TZOFFSETFROM:+0200
TZOFFSETTO:+0100
END:STANDARD
BEGIN:DAYLIGHT
DTSTART:20000326T030000
RRULE:FREQ=YEARLY;BYDAY=-1SU;BYMONTH=3
TZNAME:CEST
TZOFFSETFROM:+0100
TZOFFSETTO:+0200
END:DAYLIGHT
END:VTIMEZONE
BEGIN:VEVENT
UID:pretix-zm-ruscher4524-0@pretix.eu
DTSTART;TZID=Europe/Berlin:20240504T200000
DTEND;TZID=Europe/Berlin:20240504T210000
DESCRIPTION:Tickets: https://pretix.eu/zm/ruscher4524/\nEinlass: 04.05.2024
  19:00\nVeranstalter: zukunftsmusik
DTSTAMP:20260419T153057Z
LOCATION:Kap.8\, Idenbrockplatz 8\, 48159 Münster
SUMMARY:BARBARA RUSCHER - "Mutter ist die Bestie"
END:VEVENT
END:VCALENDAR
