BEGIN:VCALENDAR
VERSION:2.0
PRODID:-//pretix//pretix.eu//
BEGIN:VTIMEZONE
TZID:Europe/Berlin
BEGIN:STANDARD
DTSTART:20001029T040000
RRULE:FREQ=YEARLY;BYDAY=-1SU;BYMONTH=10
TZNAME:CET
TZOFFSETFROM:+0200
TZOFFSETTO:+0100
END:STANDARD
BEGIN:DAYLIGHT
DTSTART:20000326T030000
RRULE:FREQ=YEARLY;BYDAY=-1SU;BYMONTH=3
TZNAME:CEST
TZOFFSETFROM:+0100
TZOFFSETTO:+0200
END:DAYLIGHT
END:VTIMEZONE
BEGIN:VEVENT
UID:pretix-zm-stoeckel151125-0@pretix.eu
DTSTART;TZID=Europe/Berlin:20251115T150000
DTEND;TZID=Europe/Berlin:20251115T160000
DESCRIPTION:Tickets: https://pretix.eu/zm/stoeckel151125/\nEinlass: 15.11.2
 025 14:00\nVeranstalter: zukunftsmusik
DTSTAMP:20260420T052213Z
LOCATION:Kap.8 im Bürgerhaus Kinderhaus\, Idenbrockplatz 8\, 48159 Münste
 r\, Sitzplatz - Freie Platzwahl
SUMMARY:KONRAD STÖCKEL - "Wenn's stinkt und kracht ist's  Wissenschaft - U
 mwelt"
END:VEVENT
END:VCALENDAR
