BEGIN:VCALENDAR
VERSION:2.0
PRODID:-//pretix//pretix.eu//
BEGIN:VTIMEZONE
TZID:Europe/Berlin
BEGIN:STANDARD
DTSTART:20001029T040000
RRULE:FREQ=YEARLY;BYDAY=-1SU;BYMONTH=10
TZNAME:CET
TZOFFSETFROM:+0200
TZOFFSETTO:+0100
END:STANDARD
BEGIN:DAYLIGHT
DTSTART:20000326T030000
RRULE:FREQ=YEARLY;BYDAY=-1SU;BYMONTH=3
TZNAME:CEST
TZOFFSETFROM:+0100
TZOFFSETTO:+0200
END:DAYLIGHT
END:VTIMEZONE
BEGIN:VEVENT
UID:pretix-zm-zymny20424-0@pretix.eu
DTSTART;TZID=Europe/Berlin:20240420T200000
DTEND;TZID=Europe/Berlin:20240420T210000
DESCRIPTION:Tickets: https://pretix.eu/zm/zymny20424/\nEinlass: 20.04.2024 
 19:00\nVeranstalter: zukunftsmusik
DTSTAMP:20260419T153036Z
LOCATION:Kap.8 im Bürgerhaus Kinderhaus\, Idenbrockpl. 8\, 48159 Münster
SUMMARY:JAN PHILIPP ZYMNY - "Quantenheilung durch Stand Up Comedy"
END:VEVENT
END:VCALENDAR
