BEGIN:VCALENDAR
VERSION:2.0
PRODID:-//pretix//pretix.eu//
BEGIN:VTIMEZONE
TZID:Europe/Warsaw
BEGIN:STANDARD
DTSTART:20001029T040000
RRULE:FREQ=YEARLY;BYDAY=-1SU;BYMONTH=10
TZNAME:CET
TZOFFSETFROM:+0200
TZOFFSETTO:+0100
END:STANDARD
BEGIN:DAYLIGHT
DTSTART:20000326T030000
RRULE:FREQ=YEARLY;BYDAY=-1SU;BYMONTH=3
TZNAME:CEST
TZOFFSETFROM:+0100
TZOFFSETTO:+0200
END:DAYLIGHT
END:VTIMEZONE
BEGIN:VEVENT
UID:pretix-zpsb-ISC22PL-0@pretix.eu
DTSTART;TZID=Europe/Warsaw:20220909T090000
DTEND;TZID=Europe/Warsaw:20220911T180000
DESCRIPTION:Tickets: https://pretix.eu/zpsb/ISC22PL/\nAdmission: 2022-09-09
  00:00\nOrganizer: Zachodniopomorska Szkoła Biznesu
DTSTAMP:20260420T034204Z
LOCATION:Centrum Kultury Euroregionu Stara Rzeźnia\, Tadeusza Apolinarego 
 Wendy 14\, Szczecin\, Technopark Pomerania\, Cyfrowa 2-8\, Szczecin
SUMMARY:International Sketchnote Camp 2022 Poland\, Szczecin
END:VEVENT
END:VCALENDAR
