BEGIN:VCALENDAR
VERSION:2.0
PRODID:-//pretix//pretix.eu//
BEGIN:VEVENT
UID:pretix-zuzeum-carnival-0@pretix.eu
DTSTART;VALUE=DATE:20251031
DTEND;VALUE=DATE:20251101
DESCRIPTION:Tickets: https://pretix.eu/zuzeum/carnival/\nOrganizer: Zuzeum
DTSTAMP:20260420T003423Z
LOCATION:101 Lāčplēša Street\, Rīga\, LV–1011
SUMMARY:BAUHAUS CARNIVAL
END:VEVENT
END:VCALENDAR
