BEGIN:VCALENDAR
VERSION:2.0
PRODID:-//pretix//pretix.eu//
BEGIN:VTIMEZONE
TZID:Europe/Riga
BEGIN:STANDARD
DTSTART:20000101T000000
RRULE:FREQ=YEARLY;BYMONTH=1;UNTIL=19991231T220000Z
TZNAME:EET
TZOFFSETFROM:+0200
TZOFFSETTO:+0200
END:STANDARD
BEGIN:STANDARD
DTSTART:20011028T050000
RRULE:FREQ=YEARLY;BYDAY=-1SU;BYMONTH=10
TZNAME:EET
TZOFFSETFROM:+0300
TZOFFSETTO:+0200
END:STANDARD
BEGIN:DAYLIGHT
DTSTART:20010325T040000
RRULE:FREQ=YEARLY;BYDAY=-1SU;BYMONTH=3
TZNAME:EEST
TZOFFSETFROM:+0200
TZOFFSETTO:+0300
END:DAYLIGHT
END:VTIMEZONE
BEGIN:VTIMEZONE
TZID:Europe/Berlin
BEGIN:STANDARD
DTSTART:20001029T040000
RRULE:FREQ=YEARLY;BYDAY=-1SU;BYMONTH=10
TZNAME:CET
TZOFFSETFROM:+0200
TZOFFSETTO:+0100
END:STANDARD
BEGIN:DAYLIGHT
DTSTART:20000326T030000
RRULE:FREQ=YEARLY;BYDAY=-1SU;BYMONTH=3
TZNAME:CEST
TZOFFSETFROM:+0100
TZOFFSETTO:+0200
END:DAYLIGHT
END:VTIMEZONE
BEGIN:VEVENT
UID:pretix-zuzeum-KSalmanis-0@pretix.eu
DTSTART;TZID=Europe/Riga:20260320T180000
DTEND;TZID=Europe/Riga:20260320T190000
DESCRIPTION:Tickets: https://pretix.eu/zuzeum/KSalmanis/\nOrganizer: Zuzeum
DTSTAMP:20260419T142028Z
LOCATION:101 Lāčplēša Street\, Rīga\, LV–1011
SUMMARY:Artis Talk: Krišs Salmanis
END:VEVENT
BEGIN:VEVENT
UID:pretix-zuzeum-JZtourCol-0@pretix.eu
DTSTART;VALUE=DATE:20260326
DTEND;VALUE=DATE:20260327
DESCRIPTION:Tickets: https://pretix.eu/zuzeum/JZtourCol/\nOrganizer: Zuzeum
DTSTAMP:20260419T142028Z
LOCATION:101 Lāčplēša Street\, Rīga\, LV–1011
SUMMARY:Tour with Jānis Zuzāns
END:VEVENT
BEGIN:VEVENT
UID:pretix-zuzeum-jazzunframed-2-0@pretix.eu
DTSTART;VALUE=DATE:20260328
DTEND;VALUE=DATE:20260329
DESCRIPTION:Tickets: https://pretix.eu/zuzeum/jazzunframed-2/\nOrganizer: Z
 uzeum
DTSTAMP:20260419T142028Z
LOCATION:101 Lāčplēša Street\, Rīga\, LV–1011
SUMMARY:Music in the Exhibition: Trio Tresensus
END:VEVENT
BEGIN:VEVENT
UID:pretix-zuzeum-FabioTalloru-0@pretix.eu
DTSTART;TZID=Europe/Riga:20260409T173000
DTEND;TZID=Europe/Riga:20260409T200000
DESCRIPTION:Tickets: https://pretix.eu/zuzeum/FabioTalloru/\nOrganizer: Zuz
 eum
DTSTAMP:20260419T142028Z
LOCATION:101 Lāčplēša Street\, Rīga\, LV–1011
SUMMARY:Talk with Fabio Talloru
END:VEVENT
BEGIN:VEVENT
UID:pretix-zuzeum-collections-0@pretix.eu
DTSTART;TZID=Europe/Riga:20260416T180000
DTEND;TZID=Europe/Riga:20260416T193000
DESCRIPTION:Tickets: https://pretix.eu/zuzeum/collections/\nOrganizer: Zuze
 um
DTSTAMP:20260419T142028Z
LOCATION:101 Lāčplēša Street\, Rīga\, LV–1011
SUMMARY:Discussion: "How Does the Meaning of an Artwork Change?"
END:VEVENT
BEGIN:VEVENT
UID:pretix-zuzeum-ArtQuiz-2-0@pretix.eu
DTSTART;TZID=Europe/Riga:20260424T183000
DTEND;TZID=Europe/Riga:20260424T203000
DESCRIPTION:Tickets: https://pretix.eu/zuzeum/ArtQuiz-2/\nOrganizer: Zuzeum
DTSTAMP:20260419T142028Z
LOCATION:101 Lāčplēša Street\, Rīga\, LV–1011
SUMMARY:Art Quiz
END:VEVENT
BEGIN:VEVENT
UID:pretix-zuzeum-RobertFleitz-0@pretix.eu
DTSTART;VALUE=DATE:20260425
DTEND;VALUE=DATE:20260426
DESCRIPTION:Tickets: https://pretix.eu/zuzeum/RobertFleitz/\nOrganizer: Zuz
 eum
DTSTAMP:20260419T142028Z
LOCATION:101 Lāčplēša Street\, Rīga\, LV–1011
SUMMARY:Music in the Exhibition: Robert Fleitz
END:VEVENT
BEGIN:VEVENT
UID:pretix-zuzeum-zuzeummatch-2-0@pretix.eu
DTSTART;TZID=Europe/Riga:20260508T183000
DTEND;TZID=Europe/Riga:20260508T223000
DESCRIPTION:Tickets: https://pretix.eu/zuzeum/zuzeummatch-2/\nOrganizer: Zu
 zeum
DTSTAMP:20260419T142028Z
LOCATION:101 Lāčplēša Street\, Rīga\, LV–1011
SUMMARY:Zuzeum Match: Art\, Wine and Everything Fine
END:VEVENT
BEGIN:VEVENT
UID:pretix-zuzeum-exhibition-4819692@pretix.eu
DTSTART;VALUE=DATE:20260320
DTEND;VALUE=DATE:20260321
DESCRIPTION:Tickets: https://pretix.eu/zuzeum/exhibition/4819692/\nOrganize
 r: Zuzeum
DTSTAMP:20260419T142028Z
LOCATION:101 Lāčplēša Street\, Rīga\, LV–1011
SUMMARY:Exhibition ticket
END:VEVENT
BEGIN:VEVENT
UID:pretix-zuzeum-exhibition-4819693@pretix.eu
DTSTART;VALUE=DATE:20260321
DTEND;VALUE=DATE:20260322
DESCRIPTION:Tickets: https://pretix.eu/zuzeum/exhibition/4819693/\nOrganize
 r: Zuzeum
DTSTAMP:20260419T142028Z
LOCATION:101 Lāčplēša Street\, Rīga\, LV–1011
SUMMARY:Exhibition ticket
END:VEVENT
BEGIN:VEVENT
UID:pretix-zuzeum-adultworkshop-4892322@pretix.eu
DTSTART;TZID=Europe/Berlin:20260321T120000
DTEND;TZID=Europe/Berlin:20260321T130000
DESCRIPTION:Tickets: https://pretix.eu/zuzeum/adultworkshop/4892322/\nOrgan
 izer: Zuzeum
DTSTAMP:20260419T142028Z
LOCATION:101 Lāčplēša Street\, Rīga\, LV–1011
SUMMARY:In the Artist's studio
END:VEVENT
BEGIN:VEVENT
UID:pretix-zuzeum-exhibition-4819694@pretix.eu
DTSTART;VALUE=DATE:20260322
DTEND;VALUE=DATE:20260323
DESCRIPTION:Tickets: https://pretix.eu/zuzeum/exhibition/4819694/\nOrganize
 r: Zuzeum
DTSTAMP:20260419T142028Z
LOCATION:101 Lāčplēša Street\, Rīga\, LV–1011
SUMMARY:Exhibition ticket
END:VEVENT
BEGIN:VEVENT
UID:pretix-zuzeum-kidsworkshop-4885841@pretix.eu
DTSTART;TZID=Europe/Riga:20260322T111500
DTEND;TZID=Europe/Riga:20260322T121500
DESCRIPTION:Tickets: https://pretix.eu/zuzeum/kidsworkshop/4885841/\nOrgani
 zer: Zuzeum
DTSTAMP:20260419T142028Z
LOCATION:101 Lāčplēša Street\, Rīga\, LV–1011
SUMMARY:Creative workshops for children
END:VEVENT
BEGIN:VEVENT
UID:pretix-zuzeum-exhibition-4819695@pretix.eu
DTSTART;VALUE=DATE:20260324
DTEND;VALUE=DATE:20260325
DESCRIPTION:Tickets: https://pretix.eu/zuzeum/exhibition/4819695/\nOrganize
 r: Zuzeum
DTSTAMP:20260419T142028Z
LOCATION:101 Lāčplēša Street\, Rīga\, LV–1011
SUMMARY:Exhibition ticket
END:VEVENT
BEGIN:VEVENT
UID:pretix-zuzeum-exhibition-4819696@pretix.eu
DTSTART;VALUE=DATE:20260325
DTEND;VALUE=DATE:20260326
DESCRIPTION:Tickets: https://pretix.eu/zuzeum/exhibition/4819696/\nOrganize
 r: Zuzeum
DTSTAMP:20260419T142028Z
LOCATION:101 Lāčplēša Street\, Rīga\, LV–1011
SUMMARY:Exhibition ticket
END:VEVENT
BEGIN:VEVENT
UID:pretix-zuzeum-exhibition-4819697@pretix.eu
DTSTART;VALUE=DATE:20260326
DTEND;VALUE=DATE:20260327
DESCRIPTION:Tickets: https://pretix.eu/zuzeum/exhibition/4819697/\nOrganize
 r: Zuzeum
DTSTAMP:20260419T142028Z
LOCATION:101 Lāčplēša Street\, Rīga\, LV–1011
SUMMARY:Exhibition ticket
END:VEVENT
BEGIN:VEVENT
UID:pretix-zuzeum-exhibition-4819698@pretix.eu
DTSTART;VALUE=DATE:20260327
DTEND;VALUE=DATE:20260328
DESCRIPTION:Tickets: https://pretix.eu/zuzeum/exhibition/4819698/\nOrganize
 r: Zuzeum
DTSTAMP:20260419T142028Z
LOCATION:101 Lāčplēša Street\, Rīga\, LV–1011
SUMMARY:Exhibition ticket
END:VEVENT
BEGIN:VEVENT
UID:pretix-zuzeum-exhibition-4819699@pretix.eu
DTSTART;VALUE=DATE:20260328
DTEND;VALUE=DATE:20260329
DESCRIPTION:Tickets: https://pretix.eu/zuzeum/exhibition/4819699/\nOrganize
 r: Zuzeum
DTSTAMP:20260419T142028Z
LOCATION:101 Lāčplēša Street\, Rīga\, LV–1011
SUMMARY:Exhibition ticket
END:VEVENT
BEGIN:VEVENT
UID:pretix-zuzeum-adultworkshop-4892323@pretix.eu
DTSTART;TZID=Europe/Berlin:20260328T120000
DTEND;TZID=Europe/Berlin:20260328T130000
DESCRIPTION:Tickets: https://pretix.eu/zuzeum/adultworkshop/4892323/\nOrgan
 izer: Zuzeum
DTSTAMP:20260419T142028Z
LOCATION:101 Lāčplēša Street\, Rīga\, LV–1011
SUMMARY:In the Artist's studio
END:VEVENT
BEGIN:VEVENT
UID:pretix-zuzeum-exhibition-4819700@pretix.eu
DTSTART;VALUE=DATE:20260329
DTEND;VALUE=DATE:20260330
DESCRIPTION:Tickets: https://pretix.eu/zuzeum/exhibition/4819700/\nOrganize
 r: Zuzeum
DTSTAMP:20260419T142028Z
LOCATION:101 Lāčplēša Street\, Rīga\, LV–1011
SUMMARY:Exhibition ticket
END:VEVENT
BEGIN:VEVENT
UID:pretix-zuzeum-kidsworkshop-4885842@pretix.eu
DTSTART;TZID=Europe/Riga:20260329T111500
DTEND;TZID=Europe/Riga:20260329T121500
DESCRIPTION:Tickets: https://pretix.eu/zuzeum/kidsworkshop/4885842/\nOrgani
 zer: Zuzeum
DTSTAMP:20260419T142028Z
LOCATION:101 Lāčplēša Street\, Rīga\, LV–1011
SUMMARY:Creative workshops for children
END:VEVENT
BEGIN:VEVENT
UID:pretix-zuzeum-exhibition-4819701@pretix.eu
DTSTART;VALUE=DATE:20260331
DTEND;VALUE=DATE:20260401
DESCRIPTION:Tickets: https://pretix.eu/zuzeum/exhibition/4819701/\nOrganize
 r: Zuzeum
DTSTAMP:20260419T142028Z
LOCATION:101 Lāčplēša Street\, Rīga\, LV–1011
SUMMARY:Exhibition ticket
END:VEVENT
BEGIN:VEVENT
UID:pretix-zuzeum-exhibition-4819702@pretix.eu
DTSTART;VALUE=DATE:20260401
DTEND;VALUE=DATE:20260402
DESCRIPTION:Tickets: https://pretix.eu/zuzeum/exhibition/4819702/\nOrganize
 r: Zuzeum
DTSTAMP:20260419T142028Z
LOCATION:101 Lāčplēša Street\, Rīga\, LV–1011
SUMMARY:Exhibition ticket
END:VEVENT
BEGIN:VEVENT
UID:pretix-zuzeum-exhibition-4819707@pretix.eu
DTSTART;VALUE=DATE:20260407
DTEND;VALUE=DATE:20260408
DESCRIPTION:Tickets: https://pretix.eu/zuzeum/exhibition/4819707/\nOrganize
 r: Zuzeum
DTSTAMP:20260419T142028Z
LOCATION:101 Lāčplēša Street\, Rīga\, LV–1011
SUMMARY:Exhibition ticket
END:VEVENT
BEGIN:VEVENT
UID:pretix-zuzeum-exhibition-4819708@pretix.eu
DTSTART;VALUE=DATE:20260408
DTEND;VALUE=DATE:20260409
DESCRIPTION:Tickets: https://pretix.eu/zuzeum/exhibition/4819708/\nOrganize
 r: Zuzeum
DTSTAMP:20260419T142028Z
LOCATION:101 Lāčplēša Street\, Rīga\, LV–1011
SUMMARY:Exhibition ticket
END:VEVENT
BEGIN:VEVENT
UID:pretix-zuzeum-exhibition-4819709@pretix.eu
DTSTART;VALUE=DATE:20260409
DTEND;VALUE=DATE:20260410
DESCRIPTION:Tickets: https://pretix.eu/zuzeum/exhibition/4819709/\nOrganize
 r: Zuzeum
DTSTAMP:20260419T142028Z
LOCATION:101 Lāčplēša Street\, Rīga\, LV–1011
SUMMARY:Exhibition ticket
END:VEVENT
BEGIN:VEVENT
UID:pretix-zuzeum-exhibition-4819710@pretix.eu
DTSTART;VALUE=DATE:20260410
DTEND;VALUE=DATE:20260411
DESCRIPTION:Tickets: https://pretix.eu/zuzeum/exhibition/4819710/\nOrganize
 r: Zuzeum
DTSTAMP:20260419T142028Z
LOCATION:101 Lāčplēša Street\, Rīga\, LV–1011
SUMMARY:Exhibition ticket
END:VEVENT
BEGIN:VEVENT
UID:pretix-zuzeum-exhibition-4819711@pretix.eu
DTSTART;VALUE=DATE:20260411
DTEND;VALUE=DATE:20260412
DESCRIPTION:Tickets: https://pretix.eu/zuzeum/exhibition/4819711/\nOrganize
 r: Zuzeum
DTSTAMP:20260419T142028Z
LOCATION:101 Lāčplēša Street\, Rīga\, LV–1011
SUMMARY:Exhibition ticket
END:VEVENT
BEGIN:VEVENT
UID:pretix-zuzeum-atexhbttour-4910798@pretix.eu
DTSTART;TZID=Europe/Riga:20260411T120000
DTEND;TZID=Europe/Riga:20260411T130000
DESCRIPTION:Tickets: https://pretix.eu/zuzeum/atexhbttour/4910798/\nOrganiz
 er: Zuzeum
DTSTAMP:20260419T142028Z
LOCATION:101 Lāčplēša Street\, Rīga\, LV–1011
SUMMARY:Tour with Roberts Rūrāns
END:VEVENT
BEGIN:VEVENT
UID:pretix-zuzeum-adultworkshop-4910597@pretix.eu
DTSTART;TZID=Europe/Berlin:20260411T120000
DTEND;TZID=Europe/Berlin:20260411T140000
DESCRIPTION:Tickets: https://pretix.eu/zuzeum/adultworkshop/4910597/\nOrgan
 izer: Zuzeum
DTSTAMP:20260419T142028Z
LOCATION:101 Lāčplēša Street\, Rīga\, LV–1011
SUMMARY:In the Artist's studio
END:VEVENT
BEGIN:VEVENT
UID:pretix-zuzeum-exhibition-4819712@pretix.eu
DTSTART;VALUE=DATE:20260412
DTEND;VALUE=DATE:20260413
DESCRIPTION:Tickets: https://pretix.eu/zuzeum/exhibition/4819712/\nOrganize
 r: Zuzeum
DTSTAMP:20260419T142028Z
LOCATION:101 Lāčplēša Street\, Rīga\, LV–1011
SUMMARY:Exhibition ticket
END:VEVENT
BEGIN:VEVENT
UID:pretix-zuzeum-kidsworkshop-4910720@pretix.eu
DTSTART;TZID=Europe/Riga:20260412T111500
DTEND;TZID=Europe/Riga:20260412T121500
DESCRIPTION:Tickets: https://pretix.eu/zuzeum/kidsworkshop/4910720/\nOrgani
 zer: Zuzeum
DTSTAMP:20260419T142028Z
LOCATION:101 Lāčplēša Street\, Rīga\, LV–1011
SUMMARY:Creative workshops for children
END:VEVENT
BEGIN:VEVENT
UID:pretix-zuzeum-exhibition-4819713@pretix.eu
DTSTART;VALUE=DATE:20260414
DTEND;VALUE=DATE:20260415
DESCRIPTION:Tickets: https://pretix.eu/zuzeum/exhibition/4819713/\nOrganize
 r: Zuzeum
DTSTAMP:20260419T142028Z
LOCATION:101 Lāčplēša Street\, Rīga\, LV–1011
SUMMARY:Exhibition ticket
END:VEVENT
BEGIN:VEVENT
UID:pretix-zuzeum-exhibition-4819714@pretix.eu
DTSTART;VALUE=DATE:20260415
DTEND;VALUE=DATE:20260416
DESCRIPTION:Tickets: https://pretix.eu/zuzeum/exhibition/4819714/\nOrganize
 r: Zuzeum
DTSTAMP:20260419T142028Z
LOCATION:101 Lāčplēša Street\, Rīga\, LV–1011
SUMMARY:Exhibition ticket
END:VEVENT
BEGIN:VEVENT
UID:pretix-zuzeum-exhibition-4819715@pretix.eu
DTSTART;VALUE=DATE:20260416
DTEND;VALUE=DATE:20260417
DESCRIPTION:Tickets: https://pretix.eu/zuzeum/exhibition/4819715/\nOrganize
 r: Zuzeum
DTSTAMP:20260419T142028Z
LOCATION:101 Lāčplēša Street\, Rīga\, LV–1011
SUMMARY:Exhibition ticket
END:VEVENT
BEGIN:VEVENT
UID:pretix-zuzeum-exhibition-4819716@pretix.eu
DTSTART;VALUE=DATE:20260417
DTEND;VALUE=DATE:20260418
DESCRIPTION:Tickets: https://pretix.eu/zuzeum/exhibition/4819716/\nOrganize
 r: Zuzeum
DTSTAMP:20260419T142028Z
LOCATION:101 Lāčplēša Street\, Rīga\, LV–1011
SUMMARY:Exhibition ticket
END:VEVENT
BEGIN:VEVENT
UID:pretix-zuzeum-exhibition-4819717@pretix.eu
DTSTART;VALUE=DATE:20260418
DTEND;VALUE=DATE:20260419
DESCRIPTION:Tickets: https://pretix.eu/zuzeum/exhibition/4819717/\nOrganize
 r: Zuzeum
DTSTAMP:20260419T142028Z
LOCATION:101 Lāčplēša Street\, Rīga\, LV–1011
SUMMARY:Exhibition ticket
END:VEVENT
BEGIN:VEVENT
UID:pretix-zuzeum-adultworkshop-4910598@pretix.eu
DTSTART;TZID=Europe/Berlin:20260418T120000
DTEND;TZID=Europe/Berlin:20260418T140000
DESCRIPTION:Tickets: https://pretix.eu/zuzeum/adultworkshop/4910598/\nOrgan
 izer: Zuzeum
DTSTAMP:20260419T142028Z
LOCATION:101 Lāčplēša Street\, Rīga\, LV–1011
SUMMARY:In the Artist's studio
END:VEVENT
BEGIN:VEVENT
UID:pretix-zuzeum-exhibition-4819718@pretix.eu
DTSTART;VALUE=DATE:20260419
DTEND;VALUE=DATE:20260420
DESCRIPTION:Tickets: https://pretix.eu/zuzeum/exhibition/4819718/\nOrganize
 r: Zuzeum
DTSTAMP:20260419T142028Z
LOCATION:101 Lāčplēša Street\, Rīga\, LV–1011
SUMMARY:Exhibition ticket
END:VEVENT
BEGIN:VEVENT
UID:pretix-zuzeum-kidsworkshop-4910721@pretix.eu
DTSTART;TZID=Europe/Riga:20260419T111500
DTEND;TZID=Europe/Riga:20260419T121500
DESCRIPTION:Tickets: https://pretix.eu/zuzeum/kidsworkshop/4910721/\nOrgani
 zer: Zuzeum
DTSTAMP:20260419T142028Z
LOCATION:101 Lāčplēša Street\, Rīga\, LV–1011
SUMMARY:Creative workshops for children
END:VEVENT
BEGIN:VEVENT
UID:pretix-zuzeum-exhibition-4819719@pretix.eu
DTSTART;VALUE=DATE:20260421
DTEND;VALUE=DATE:20260422
DESCRIPTION:Tickets: https://pretix.eu/zuzeum/exhibition/4819719/\nOrganize
 r: Zuzeum
DTSTAMP:20260419T142028Z
LOCATION:101 Lāčplēša Street\, Rīga\, LV–1011
SUMMARY:Exhibition ticket
END:VEVENT
BEGIN:VEVENT
UID:pretix-zuzeum-exhibition-4819720@pretix.eu
DTSTART;VALUE=DATE:20260422
DTEND;VALUE=DATE:20260423
DESCRIPTION:Tickets: https://pretix.eu/zuzeum/exhibition/4819720/\nOrganize
 r: Zuzeum
DTSTAMP:20260419T142028Z
LOCATION:101 Lāčplēša Street\, Rīga\, LV–1011
SUMMARY:Exhibition ticket
END:VEVENT
BEGIN:VEVENT
UID:pretix-zuzeum-exhibition-4819721@pretix.eu
DTSTART;VALUE=DATE:20260423
DTEND;VALUE=DATE:20260424
DESCRIPTION:Tickets: https://pretix.eu/zuzeum/exhibition/4819721/\nOrganize
 r: Zuzeum
DTSTAMP:20260419T142028Z
LOCATION:101 Lāčplēša Street\, Rīga\, LV–1011
SUMMARY:Exhibition ticket
END:VEVENT
BEGIN:VEVENT
UID:pretix-zuzeum-exhibition-4819722@pretix.eu
DTSTART;VALUE=DATE:20260424
DTEND;VALUE=DATE:20260425
DESCRIPTION:Tickets: https://pretix.eu/zuzeum/exhibition/4819722/\nOrganize
 r: Zuzeum
DTSTAMP:20260419T142028Z
LOCATION:101 Lāčplēša Street\, Rīga\, LV–1011
SUMMARY:Exhibition ticket
END:VEVENT
BEGIN:VEVENT
UID:pretix-zuzeum-exhibition-4819723@pretix.eu
DTSTART;VALUE=DATE:20260425
DTEND;VALUE=DATE:20260426
DESCRIPTION:Tickets: https://pretix.eu/zuzeum/exhibition/4819723/\nOrganize
 r: Zuzeum
DTSTAMP:20260419T142028Z
LOCATION:101 Lāčplēša Street\, Rīga\, LV–1011
SUMMARY:Exhibition ticket
END:VEVENT
BEGIN:VEVENT
UID:pretix-zuzeum-atexhbttour-4910788@pretix.eu
DTSTART;TZID=Europe/Riga:20260425T120000
DTEND;TZID=Europe/Riga:20260425T130000
DESCRIPTION:Tickets: https://pretix.eu/zuzeum/atexhbttour/4910788/\nOrganiz
 er: Zuzeum
DTSTAMP:20260419T142028Z
LOCATION:101 Lāčplēša Street\, Rīga\, LV–1011
SUMMARY:Tour with Roberts Rūrāns
END:VEVENT
BEGIN:VEVENT
UID:pretix-zuzeum-adultworkshop-4910599@pretix.eu
DTSTART;TZID=Europe/Berlin:20260425T120000
DTEND;TZID=Europe/Berlin:20260425T140000
DESCRIPTION:Tickets: https://pretix.eu/zuzeum/adultworkshop/4910599/\nOrgan
 izer: Zuzeum
DTSTAMP:20260419T142028Z
LOCATION:101 Lāčplēša Street\, Rīga\, LV–1011
SUMMARY:In the Artist's studio
END:VEVENT
BEGIN:VEVENT
UID:pretix-zuzeum-atexhbttour-4910787@pretix.eu
DTSTART;TZID=Europe/Riga:20260425T140000
DTEND;TZID=Europe/Riga:20260425T150000
DESCRIPTION:Tickets: https://pretix.eu/zuzeum/atexhbttour/4910787/\nOrganiz
 er: Zuzeum
DTSTAMP:20260419T142028Z
LOCATION:101 Lāčplēša Street\, Rīga\, LV–1011
SUMMARY:Tour with exhibition's "Collections" creators
END:VEVENT
BEGIN:VEVENT
UID:pretix-zuzeum-exhibition-4819724@pretix.eu
DTSTART;VALUE=DATE:20260426
DTEND;VALUE=DATE:20260427
DESCRIPTION:Tickets: https://pretix.eu/zuzeum/exhibition/4819724/\nOrganize
 r: Zuzeum
DTSTAMP:20260419T142028Z
LOCATION:101 Lāčplēša Street\, Rīga\, LV–1011
SUMMARY:Exhibition ticket
END:VEVENT
BEGIN:VEVENT
UID:pretix-zuzeum-kidsworkshop-4910722@pretix.eu
DTSTART;TZID=Europe/Riga:20260426T111500
DTEND;TZID=Europe/Riga:20260426T121500
DESCRIPTION:Tickets: https://pretix.eu/zuzeum/kidsworkshop/4910722/\nOrgani
 zer: Zuzeum
DTSTAMP:20260419T142028Z
LOCATION:101 Lāčplēša Street\, Rīga\, LV–1011
SUMMARY:Creative workshops for children
END:VEVENT
BEGIN:VEVENT
UID:pretix-zuzeum-exhibition-4819725@pretix.eu
DTSTART;VALUE=DATE:20260428
DTEND;VALUE=DATE:20260429
DESCRIPTION:Tickets: https://pretix.eu/zuzeum/exhibition/4819725/\nOrganize
 r: Zuzeum
DTSTAMP:20260419T142028Z
LOCATION:101 Lāčplēša Street\, Rīga\, LV–1011
SUMMARY:Exhibition ticket
END:VEVENT
BEGIN:VEVENT
UID:pretix-zuzeum-exhibition-4819726@pretix.eu
DTSTART;VALUE=DATE:20260429
DTEND;VALUE=DATE:20260430
DESCRIPTION:Tickets: https://pretix.eu/zuzeum/exhibition/4819726/\nOrganize
 r: Zuzeum
DTSTAMP:20260419T142028Z
LOCATION:101 Lāčplēša Street\, Rīga\, LV–1011
SUMMARY:Exhibition ticket
END:VEVENT
BEGIN:VEVENT
UID:pretix-zuzeum-exhibition-4819727@pretix.eu
DTSTART;VALUE=DATE:20260430
DTEND;VALUE=DATE:20260501
DESCRIPTION:Tickets: https://pretix.eu/zuzeum/exhibition/4819727/\nOrganize
 r: Zuzeum
DTSTAMP:20260419T142028Z
LOCATION:101 Lāčplēša Street\, Rīga\, LV–1011
SUMMARY:Exhibition ticket
END:VEVENT
BEGIN:VEVENT
UID:pretix-zuzeum-exhibition-4819728@pretix.eu
DTSTART;VALUE=DATE:20260501
DTEND;VALUE=DATE:20260502
DESCRIPTION:Tickets: https://pretix.eu/zuzeum/exhibition/4819728/\nOrganize
 r: Zuzeum
DTSTAMP:20260419T142028Z
LOCATION:101 Lāčplēša Street\, Rīga\, LV–1011
SUMMARY:Exhibition ticket
END:VEVENT
BEGIN:VEVENT
UID:pretix-zuzeum-exhibition-4819729@pretix.eu
DTSTART;VALUE=DATE:20260502
DTEND;VALUE=DATE:20260503
DESCRIPTION:Tickets: https://pretix.eu/zuzeum/exhibition/4819729/\nOrganize
 r: Zuzeum
DTSTAMP:20260419T142028Z
LOCATION:101 Lāčplēša Street\, Rīga\, LV–1011
SUMMARY:Exhibition ticket
END:VEVENT
BEGIN:VEVENT
UID:pretix-zuzeum-exhibition-4819730@pretix.eu
DTSTART;VALUE=DATE:20260503
DTEND;VALUE=DATE:20260504
DESCRIPTION:Tickets: https://pretix.eu/zuzeum/exhibition/4819730/\nOrganize
 r: Zuzeum
DTSTAMP:20260419T142028Z
LOCATION:101 Lāčplēša Street\, Rīga\, LV–1011
SUMMARY:Exhibition ticket
END:VEVENT
BEGIN:VEVENT
UID:pretix-zuzeum-exhibition-4819731@pretix.eu
DTSTART;VALUE=DATE:20260505
DTEND;VALUE=DATE:20260506
DESCRIPTION:Tickets: https://pretix.eu/zuzeum/exhibition/4819731/\nOrganize
 r: Zuzeum
DTSTAMP:20260419T142028Z
LOCATION:101 Lāčplēša Street\, Rīga\, LV–1011
SUMMARY:Exhibition ticket
END:VEVENT
BEGIN:VEVENT
UID:pretix-zuzeum-exhibition-4819732@pretix.eu
DTSTART;VALUE=DATE:20260506
DTEND;VALUE=DATE:20260507
DESCRIPTION:Tickets: https://pretix.eu/zuzeum/exhibition/4819732/\nOrganize
 r: Zuzeum
DTSTAMP:20260419T142028Z
LOCATION:101 Lāčplēša Street\, Rīga\, LV–1011
SUMMARY:Exhibition ticket
END:VEVENT
BEGIN:VEVENT
UID:pretix-zuzeum-exhibition-4819733@pretix.eu
DTSTART;VALUE=DATE:20260507
DTEND;VALUE=DATE:20260508
DESCRIPTION:Tickets: https://pretix.eu/zuzeum/exhibition/4819733/\nOrganize
 r: Zuzeum
DTSTAMP:20260419T142028Z
LOCATION:101 Lāčplēša Street\, Rīga\, LV–1011
SUMMARY:Exhibition ticket
END:VEVENT
BEGIN:VEVENT
UID:pretix-zuzeum-exhibition-4819734@pretix.eu
DTSTART;VALUE=DATE:20260508
DTEND;VALUE=DATE:20260509
DESCRIPTION:Tickets: https://pretix.eu/zuzeum/exhibition/4819734/\nOrganize
 r: Zuzeum
DTSTAMP:20260419T142028Z
LOCATION:101 Lāčplēša Street\, Rīga\, LV–1011
SUMMARY:Exhibition ticket
END:VEVENT
BEGIN:VEVENT
UID:pretix-zuzeum-exhibition-4819735@pretix.eu
DTSTART;VALUE=DATE:20260509
DTEND;VALUE=DATE:20260510
DESCRIPTION:Tickets: https://pretix.eu/zuzeum/exhibition/4819735/\nOrganize
 r: Zuzeum
DTSTAMP:20260419T142028Z
LOCATION:101 Lāčplēša Street\, Rīga\, LV–1011
SUMMARY:Exhibition ticket
END:VEVENT
BEGIN:VEVENT
UID:pretix-zuzeum-exhibition-4819736@pretix.eu
DTSTART;VALUE=DATE:20260510
DTEND;VALUE=DATE:20260511
DESCRIPTION:Tickets: https://pretix.eu/zuzeum/exhibition/4819736/\nOrganize
 r: Zuzeum
DTSTAMP:20260419T142028Z
LOCATION:101 Lāčplēša Street\, Rīga\, LV–1011
SUMMARY:Exhibition ticket
END:VEVENT
END:VCALENDAR
