BEGIN:VCALENDAR
VERSION:2.0
PRODID:-//pretix//pretix.eu//
BEGIN:VEVENT
UID:pretix-zuzeum-finissageklp-0@pretix.eu
DTSTART;VALUE=DATE:20240517
DTEND;VALUE=DATE:20240518
DESCRIPTION:Tickets: https://pretix.eu/zuzeum/finissageklp/\nOrganizer: Zuz
 eum
DTSTAMP:20260422T112445Z
LOCATION:101 Lāčplēša Street\, Rīga\, LV–1011
SUMMARY:Finissage
END:VEVENT
END:VCALENDAR
