BEGIN:VCALENDAR
VERSION:2.0
PRODID:-//pretix//pretix.eu//
BEGIN:VEVENT
UID:pretix-zuzeum-tickets-2324346@pretix.eu
DTSTART;VALUE=DATE:20210713
DTEND;VALUE=DATE:20210714
DESCRIPTION:Tickets: https://pretix.eu/zuzeum/tickets/2324346/\nOrganizer: 
 Zuzeum
DTSTAMP:20260419T133051Z
LOCATION:101 Lāčplēša Street\, Rīga\, LV–1011
SUMMARY:Zuzeum exhibition entrance ticket
END:VEVENT
END:VCALENDAR
