BEGIN:VCALENDAR
VERSION:2.0
PRODID:-//pretix//pretix.eu//
BEGIN:VEVENT
UID:pretix-zuzeum-tickets-2324431@pretix.eu
DTSTART;VALUE=DATE:20211006
DTEND;VALUE=DATE:20211007
DESCRIPTION:Tickets: https://pretix.eu/zuzeum/tickets/2324431/\nOrganizer: 
 Zuzeum
DTSTAMP:20260423T060421Z
LOCATION:101 Lāčplēša Street\, Rīga\, LV–1011
SUMMARY:Zuzeum exhibition entrance ticket
END:VEVENT
END:VCALENDAR
